BEGIN:VCALENDAR
VERSION:2.0
PRODID:-//Chinese Community Centre - Birmingham - ECPv6.2.9//NONSGML v1.0//EN
CALSCALE:GREGORIAN
METHOD:PUBLISH
X-WR-CALNAME:Chinese Community Centre - Birmingham
X-ORIGINAL-URL:https://chinesebirmingham.org.uk
X-WR-CALDESC:Events for Chinese Community Centre - Birmingham
REFRESH-INTERVAL;VALUE=DURATION:PT1H
X-Robots-Tag:noindex
X-PUBLISHED-TTL:PT1H
BEGIN:VTIMEZONE
TZID:Europe/London
BEGIN:DAYLIGHT
TZOFFSETFROM:+0000
TZOFFSETTO:+0100
TZNAME:BST
DTSTART:20240331T010000
END:DAYLIGHT
BEGIN:STANDARD
TZOFFSETFROM:+0100
TZOFFSETTO:+0000
TZNAME:GMT
DTSTART:20241027T010000
END:STANDARD
END:VTIMEZONE
BEGIN:VEVENT
DTSTART;TZID=Europe/London:20241010T080000
DTEND;TZID=Europe/London:20241010T170000
DTSTAMP:20260423T051821
CREATED:20241009T121013Z
LAST-MODIFIED:20250104T124657Z
UID:10004492-1728547200-1728579600@chinesebirmingham.org.uk
SUMMARY:Xpress dance
DESCRIPTION:At Xpress Dance\, we bring the joy of movement to everyone\, offering a wide range of dance styles for all ages and skill levels. Our experienced instructors are here to guide you. No experience? No problem! We welcome beginners and seasoned dancers alike to explore their passion in a fun\, supportive environment. Come join Xpress Dance\, where you’ll not only learn the moves but also build confidence\, good health and well being. \nCarers: FREE \nMembers £3
URL:https://chinesebirmingham.org.uk/events/xpress-dance/2024-10-10/1/
LOCATION:Chinese Community Centre – Birmingham\, 99 Bradford Street\, Birmingham\, B12 0NS\, United Kingdom
ATTACH;FMTTYPE=image/png:https://chinesebirmingham.org.uk/wp-content/uploads/2023/08/Cal-Xpress-dance.png
END:VEVENT
END:VCALENDAR